BEGIN:VCALENDAR
VERSION:2.0
PRODID:-//RentalSpace kite.【湘南・藤沢・平塚 レンタルスペース】 - ECPv6.11.2.1//NONSGML v1.0//EN
CALSCALE:GREGORIAN
METHOD:PUBLISH
X-WR-CALNAME:RentalSpace kite.【湘南・藤沢・平塚 レンタルスペース】
X-ORIGINAL-URL:https://www.kite-space.online
X-WR-CALDESC:RentalSpace kite.【湘南・藤沢・平塚 レンタルスペース】 のイベント
REFRESH-INTERVAL;VALUE=DURATION:PT1H
X-Robots-Tag:noindex
X-PUBLISHED-TTL:PT1H
BEGIN:VTIMEZONE
TZID:Asia/Tokyo
BEGIN:STANDARD
TZOFFSETFROM:+0900
TZOFFSETTO:+0900
TZNAME:JST
DTSTART:20250101T000000
END:STANDARD
END:VTIMEZONE
BEGIN:VEVENT
DTSTART;TZID=Asia/Tokyo:20251019T110000
DTEND;TZID=Asia/Tokyo:20251019T210000
DTSTAMP:20260422T212741
CREATED:20251002T100351Z
LAST-MODIFIED:20251002T100351Z
UID:1357-1760871600-1760907600@www.kite-space.online
SUMMARY:Queen Eights　ポーカーイベント10/19
DESCRIPTION:みなさん、こんにちは！\n東大卒ポーカープレイヤーの taku88です！\n10/19にポーカーイベントを開催します！ \nこの度、私taku88は、今年8月に行われたポーカーの世界大会WPT Prime Taiwanのイベントで優勝をしました！ \nそれを記念して、祝勝会トーナメントを開催します！ \n初心者講習も開催します！ぜひご参加ください！ \nイベント内容今回は、第1部祝勝会トーナメント、第2部ベットホンポーカーの2部制です！ \n第2部のヘッドホンポーカーは、私が個別でオファーを出した、ポーカー経験者によるトーナメントゲームを行います！皆さんには、このトーナメントをご観戦いただき、誰が優勝するのかを予想していただきます！ \nスケジュール11:00 事前講習・練習会11:30 第1部トーナメント開始13:55トーナメントレイト締切トーナメント敗退次第リングゲーム17:30 第1部終了\n18:00 第2部スタート\n21:00 第2部終了 \n今回は特別に、ケータリングをご用意しております！ \nアクセス\n予約はこちら \n時間: 11:00AM – 9:00PM\n主催者: taku88（Queen Eights代表）
URL:https://www.kite-space.online/event/queen-eights%e3%80%80%e3%83%9d%e3%83%bc%e3%82%ab%e3%83%bc%e3%82%a4%e3%83%99%e3%83%b3%e3%83%8810-19/
LOCATION:RentalSpace kite.藤沢店\, 南藤沢6-11南藤沢フラットビル5F\, 藤沢市\, 神奈川県\, 2510055\, Japan
CATEGORIES:Poker
END:VEVENT
BEGIN:VEVENT
DTSTART;TZID=Asia/Tokyo:20250915T110000
DTEND;TZID=Asia/Tokyo:20250915T180000
DTSTAMP:20260422T212741
CREATED:20250821T020951Z
LAST-MODIFIED:20250821T021325Z
UID:1345-1757934000-1757959200@www.kite-space.online
SUMMARY:9/15　Queen Eights　ポーカーイベント
DESCRIPTION:こんにちは！Queen Eightsです！9/15にポーカーイベントを開催します！ \n私たちQueen Eightsは2024年12月のイベント以来、ポーカーイベントを開催する活動を行なっており、今回で6回目の開催となります！ \n初心者講習も開催します！ぜひご参加ください！ \nイベント内容今回は、リングゲーム・トーナメントの2種類のゲームを開催します！\nスケジュール11:30 事前講習・練習会12:00 トーナメント開始14:25 トーナメントレイト締切トーナメント敗退次第リングゲーム18:00 終了予定 \nアクセス \n予約はこちら \n時間: 11:30AM – 6:00PM\n主催者: Queen Eights (代表: taku88)
URL:https://www.kite-space.online/event/9-15%e3%80%80queen-eights%e3%80%80%e3%83%9d%e3%83%bc%e3%82%ab%e3%83%bc%e3%82%a4%e3%83%99%e3%83%b3%e3%83%88/
LOCATION:神奈川県
CATEGORIES:Poker
ATTACH;FMTTYPE=image/jpeg:https://www.kite-space.online/wp-content/uploads/2025/05/lPcQlSYW_400x400.jpg
END:VEVENT
BEGIN:VEVENT
DTSTART;TZID=Asia/Tokyo:20250906T110000
DTEND;TZID=Asia/Tokyo:20250906T190000
DTSTAMP:20260422T212741
CREATED:20250821T021257Z
LAST-MODIFIED:20250821T021312Z
UID:1350-1757156400-1757185200@www.kite-space.online
SUMMARY:【湘南ポーカークラブ】藤沢で開催！【9月6日（土）12:00～19:00】 第10回ポーカー会
DESCRIPTION:詳細内容は以下の予約ページをご確認ください。 \nhttps://peatix.com/event/4468967/view
URL:https://www.kite-space.online/event/%e3%80%90%e6%b9%98%e5%8d%97%e3%83%9d%e3%83%bc%e3%82%ab%e3%83%bc%e3%82%af%e3%83%a9%e3%83%96%e3%80%91%e8%97%a4%e6%b2%a2%e3%81%a7%e9%96%8b%e5%82%ac%ef%bc%81%e3%80%909%e6%9c%886%e6%97%a5%ef%bc%88%e5%9c%9f/
LOCATION:RentalSpace kite.藤沢店\, 南藤沢6-11南藤沢フラットビル5F\, 藤沢市\, 神奈川県\, 2510055\, Japan
CATEGORIES:Poker,湘南ポーカークラブ
ATTACH;FMTTYPE=image/png:https://www.kite-space.online/wp-content/uploads/2025/04/ロゴ.png
END:VEVENT
BEGIN:VEVENT
DTSTART;TZID=Asia/Tokyo:20250720T120000
DTEND;TZID=Asia/Tokyo:20250720T230000
DTSTAMP:20260422T212741
CREATED:20250429T141438Z
LAST-MODIFIED:20250512T142853Z
UID:1226-1753012800-1753052400@www.kite-space.online
SUMMARY:The First in Summer 7/20(ポーカー大会)
DESCRIPTION:
URL:https://www.kite-space.online/event/the-first-in-summer/
LOCATION:RentalSpace kite.藤沢店\, 南藤沢6-11南藤沢フラットビル5F\, 藤沢市\, 神奈川県\, 2510055\, Japan
CATEGORIES:Poker
ATTACH;FMTTYPE=image/png:https://www.kite-space.online/wp-content/uploads/2025/04/スクリーンショット-2025-05-12-231919.png
END:VEVENT
BEGIN:VEVENT
DTSTART;TZID=Asia/Tokyo:20250716T200000
DTEND;TZID=Asia/Tokyo:20250716T233000
DTSTAMP:20260422T212741
CREATED:20250701T090413Z
LAST-MODIFIED:20250701T090413Z
UID:1335-1752696000-1752708600@www.kite-space.online
SUMMARY:【2025年7月16日（水）20:00～23:15】【湘南ポーカークラブ】 第4回MIXゲーム ポーカー会(PLO)
DESCRIPTION:詳細内容は以下のイベントページをご確認ください。 \nhttps://peatix.com/event/4479388/view
URL:https://www.kite-space.online/event/%e3%80%902025%e5%b9%b47%e6%9c%8816%e6%97%a5%ef%bc%88%e6%b0%b4%ef%bc%892000%ef%bd%9e2315%e3%80%91%e3%80%90%e6%b9%98%e5%8d%97%e3%83%9d%e3%83%bc%e3%82%ab%e3%83%bc%e3%82%af%e3%83%a9%e3%83%96%e3%80%91/
LOCATION:RentalSpace kite.藤沢店\, 南藤沢6-11南藤沢フラットビル5F\, 藤沢市\, 神奈川県\, 2510055\, Japan
CATEGORIES:Poker,湘南ポーカークラブ
ATTACH;FMTTYPE=image/png:https://www.kite-space.online/wp-content/uploads/2025/04/ロゴ.png
END:VEVENT
BEGIN:VEVENT
DTSTART;TZID=Asia/Tokyo:20250712T120000
DTEND;TZID=Asia/Tokyo:20250712T190000
DTSTAMP:20260422T212741
CREATED:20250622T210322Z
LAST-MODIFIED:20250622T210322Z
UID:1325-1752321600-1752346800@www.kite-space.online
SUMMARY:【湘南ポーカークラブ】藤沢で開催！【7月12日（土）12:00～19:00】 第10回ポーカー会
DESCRIPTION:詳細内容は以下の予約ページをご確認ください。 \nhttps://peatix.com/event/4468967/view
URL:https://www.kite-space.online/event/%e3%80%90%e6%b9%98%e5%8d%97%e3%83%9d%e3%83%bc%e3%82%ab%e3%83%bc%e3%82%af%e3%83%a9%e3%83%96%e3%80%91%e8%97%a4%e6%b2%a2%e3%81%a7%e9%96%8b%e5%82%ac%ef%bc%81%e3%80%907%e6%9c%8812%e6%97%a5%ef%bc%88/
LOCATION:RentalSpace kite.藤沢店\, 南藤沢6-11南藤沢フラットビル5F\, 藤沢市\, 神奈川県\, 2510055\, Japan
CATEGORIES:Poker,湘南ポーカークラブ
ATTACH;FMTTYPE=image/png:https://www.kite-space.online/wp-content/uploads/2025/04/ロゴ.png
END:VEVENT
BEGIN:VEVENT
DTSTART;TZID=Asia/Tokyo:20250629T120000
DTEND;TZID=Asia/Tokyo:20250629T190000
DTSTAMP:20260422T212741
CREATED:20250512T140619Z
LAST-MODIFIED:20250605T020449Z
UID:1274-1751198400-1751223600@www.kite-space.online
SUMMARY:【湘南ポーカークラブ】藤沢で開催！【6月29日（日）12:00～19:00】 第9回ポーカー会
DESCRIPTION:詳細内容は以下の公式サイトをご確認ください。 \nhttps://shonan-poker-club.com/
URL:https://www.kite-space.online/event/spc25062/
LOCATION:RentalSpace kite.藤沢店\, 南藤沢6-11南藤沢フラットビル5F\, 藤沢市\, 神奈川県\, 2510055\, Japan
CATEGORIES:Poker,湘南ポーカークラブ
ATTACH;FMTTYPE=image/png:https://www.kite-space.online/wp-content/uploads/2025/04/ロゴ.png
END:VEVENT
BEGIN:VEVENT
DTSTART;TZID=Asia/Tokyo:20250625T200000
DTEND;TZID=Asia/Tokyo:20250625T233000
DTSTAMP:20260422T212741
CREATED:20250605T020325Z
LAST-MODIFIED:20250605T020428Z
UID:1318-1750881600-1750894200@www.kite-space.online
SUMMARY:【2025年6月25日（水）20:00～23:15】【湘南ポーカークラブ】 第3回MIXゲーム ポーカー会(セブンカードスタッド)
DESCRIPTION:■湘南ポーカークラブとは？\n湘南ポーカークラブは、ポーカーを楽しむことを目的とした社会人サークルです！\nメイン層は20代から30代のメンバーが集まり、ポーカーを通じて新しい仲間との交流を深める場を提供しています。 \n初心者の方でも安心して参加できるよう、基本的なルールを学べる講習の時間も設けています。 \n  \n■イベント概要\n通常は毎月第2土曜日にテキサスホールデム（NLH）をメインに楽しむ定例会を開催していますが、今回の平日開催は趣向を変えてMIXゲームの一種であるセブンカードスタッドをプレイします！ \n主催者もMIXゲームはまだ初心者のため、みんなで一緒に学びながら楽しみましょうのスタンスです。 \n「NLH以外のポーカーを体験してみたい」「他のポーカールールを学んでみたい」「ポーカーそもそもわからんけど、やってみたい」という方はぜひこの機会にご参加ください。MIXゲームの楽しさも味わっていただけるはずです！ \n日時：2025年6月25日（水）20:00～23:15\n場所：神奈川県藤沢市南藤沢6-11 南藤沢フラットビル5F Rental Space kite.藤沢店\n最寄駅：JR藤沢駅徒歩5分\n定員：48名 \n詳細はこちら \n 
URL:https://www.kite-space.online/event/%e3%80%902025%e5%b9%b46%e6%9c%8825%e6%97%a5%ef%bc%88%e6%b0%b4%ef%bc%892000%ef%bd%9e2315%e3%80%91%e3%80%90%e6%b9%98%e5%8d%97%e3%83%9d%e3%83%bc%e3%82%ab%e3%83%bc%e3%82%af%e3%83%a9%e3%83%96%e3%80%91/
LOCATION:RentalSpace kite.藤沢店\, 南藤沢6-11南藤沢フラットビル5F\, 藤沢市\, 神奈川県\, 2510055\, Japan
CATEGORIES:Poker,湘南ポーカークラブ
ATTACH;FMTTYPE=image/png:https://www.kite-space.online/wp-content/uploads/2025/04/ロゴ.png
END:VEVENT
BEGIN:VEVENT
DTSTART;TZID=Asia/Tokyo:20250614T120000
DTEND;TZID=Asia/Tokyo:20250614T190000
DTSTAMP:20260422T212741
CREATED:20250429T141849Z
LAST-MODIFIED:20250512T140439Z
UID:1229-1749902400-1749927600@www.kite-space.online
SUMMARY:【湘南ポーカークラブ】藤沢で開催！【6月14日（土）12:00～19:00】 第8回ポーカー会
DESCRIPTION:詳細内容は以下の公式サイトをご確認ください。 \nhttps://shonan-poker-club.com/ \n湘南ポーカークラブとは？\n湘南ポーカークラブは、ポーカーを楽しむことを目的とした社会人サークルです！\nメイン層は20代から30代のメンバーが集まり、ポーカーを通じて新しい仲間との交流を深める場を提供しています。 \n初心者の方でも安心して参加できるよう、基本的なルールを学べる講習の時間も設けています。\n活動場所は藤沢のレンタルスペースで行い、まずは軽くリングゲームを楽しんだ後、トーナメント形式のゲームを行います。 \n麻雀やボードゲーム、switch等多数ご用意しています。\nトーナメント敗退後はご自由にお楽しみください。途中からのご参加や、途中でのご退席も自由です。\nトーナメント終了後、希望者で打ち上げを予定しています。 \n \n 
URL:https://www.kite-space.online/event/spc2506/
LOCATION:RentalSpace kite.藤沢店\, 南藤沢6-11南藤沢フラットビル5F\, 藤沢市\, 神奈川県\, 2510055\, Japan
CATEGORIES:Poker,湘南ポーカークラブ
ATTACH;FMTTYPE=image/png:https://www.kite-space.online/wp-content/uploads/2025/04/ロゴ.png
END:VEVENT
BEGIN:VEVENT
DTSTART;TZID=Asia/Tokyo:20250520T200000
DTEND;TZID=Asia/Tokyo:20250520T230000
DTSTAMP:20260422T212741
CREATED:20250512T140734Z
LAST-MODIFIED:20250512T142434Z
UID:1276-1747771200-1747782000@www.kite-space.online
SUMMARY:【湘南ポーカークラブ】【2025年5月20日（火）20:00～23:00】 MIXゲーム ポーカー会(Badugi)
DESCRIPTION:湘南ポーカークラブ初のmix系ゲーム会になります！ \n詳細内容は以下の公式サイトをご確認ください。 \nhttps://shonan-poker-club.com/
URL:https://www.kite-space.online/event/%e3%80%90%e6%b9%98%e5%8d%97%e3%83%9d%e3%83%bc%e3%82%ab%e3%83%bc%e3%82%af%e3%83%a9%e3%83%96%e3%80%91%e3%80%902025%e5%b9%b45%e6%9c%8820%e6%97%a5%ef%bc%88%e7%81%ab%ef%bc%892000%ef%bd%9e2300%e3%80%91-mi/
LOCATION:RentalSpace kite.藤沢店\, 南藤沢6-11南藤沢フラットビル5F\, 藤沢市\, 神奈川県\, 2510055\, Japan
CATEGORIES:Poker,湘南ポーカークラブ
ATTACH;FMTTYPE=image/png:https://www.kite-space.online/wp-content/uploads/2025/04/ロゴ.png
END:VEVENT
BEGIN:VEVENT
DTSTART;TZID=Asia/Tokyo:20250518T130000
DTEND;TZID=Asia/Tokyo:20250518T213000
DTSTAMP:20260422T212741
CREATED:20250512T141138Z
LAST-MODIFIED:20250512T142127Z
UID:1278-1747573200-1747603800@www.kite-space.online
SUMMARY:5/18(日) 横浜ポーカー部2025 テキサスホールデム会 in 横浜【1dayトーナメント】
DESCRIPTION:【日時】　5/18(日) 13:00~21:30\n\n\n【場所】　横浜市西公会堂 2号会議室\n\n\n　※横浜駅下車 徒歩10分\n \n\n【定員】\n　16名\n\n\n\n【参加費】\n　メイントーナメント エントリー：2\,000円\n　　※前日までに参加希望された方はスタートチップ＋10%！\n　　※プレイングディーラーご希望の方は500円引き&スタートチップ+20％！\n　メイントーナメント リエントリー：1\,300円\n\n\n\n　サイドトーナメント エントリー：500円\n     ※メイントーナメント参加者は、エントリー無料！\n\n【スケジュール】\n　13:00 開場、会場準備\n\n　13:15 メイントーナメント開始\n　16:55 メイントーナメント レイトレジスト締切\n　17:00 サイドトーナメント開始\n　18:55 サイドトーナメント レイトレジスト締切\n　21:00 メイン・サイドトーナメント終了予定\n　21:30 完全撤収\n\n\n詳細はリンクから
URL:https://www.kite-space.online/event/yokohama-poker-01/
LOCATION:横浜市西公会堂
CATEGORIES:Poker
ATTACH;FMTTYPE=image/jpeg:https://www.kite-space.online/wp-content/uploads/2025/05/7gZGLGuG_400x400.jpg
END:VEVENT
BEGIN:VEVENT
DTSTART;TZID=Asia/Tokyo:20250518T120000
DTEND;TZID=Asia/Tokyo:20250518T190000
DTSTAMP:20260422T212741
CREATED:20250512T141429Z
LAST-MODIFIED:20250512T144708Z
UID:1282-1747569600-1747594800@www.kite-space.online
SUMMARY:5/18　Queen Eights ポーカー会
DESCRIPTION:こんにちは！Queen Eightsです！\n5/18にポーカーイベントを開催します！ \n私たちQueen Eightsは2024年12月のイベント以来、ポーカーイベントを開催する活動を行なっており、今回で4回目の開催となります！ \n初心者講習も開催します！\nぜひご参加ください！ \nイベント内容\n今回は、リングゲーム・トーナメントの2種類のゲームを開催します！ \nスケジュール\n11:30 事前講習・練習会\n12:00 トーナメント開始\n14:25 トーナメントレイト締切\nトーナメント敗退次第リングゲーム\n18:00 終了予定 \nアクセス \n予約はこちら
URL:https://www.kite-space.online/event/queen-eights-%e3%83%9d%e3%83%bc%e3%82%ab%e3%83%bc%e4%bc%9a/
LOCATION:たまりば飯田橋
CATEGORIES:Poker
ATTACH;FMTTYPE=image/jpeg:https://www.kite-space.online/wp-content/uploads/2025/05/lPcQlSYW_400x400.jpg
END:VEVENT
BEGIN:VEVENT
DTSTART;TZID=Asia/Tokyo:20250510T120000
DTEND;TZID=Asia/Tokyo:20250510T190000
DTSTAMP:20260422T212741
CREATED:20250429T134347Z
LAST-MODIFIED:20250512T140251Z
UID:1217-1746878400-1746903600@www.kite-space.online
SUMMARY:【湘南ポーカークラブ】藤沢で開催！【5月10日（土）12:00～19:00】 第7回ポーカー会
DESCRIPTION:詳細内容は以下の公式サイトをご確認ください。 \nhttps://shonan-poker-club.com/ \n湘南ポーカークラブとは？\n湘南ポーカークラブは、ポーカーを楽しむことを目的とした社会人サークルです！\nメイン層は20代から30代のメンバーが集まり、ポーカーを通じて新しい仲間との交流を深める場を提供しています。 \n初心者の方でも安心して参加できるよう、基本的なルールを学べる講習の時間も設けています。\n活動場所は藤沢のレンタルスペースで行い、まずは軽くリングゲームを楽しんだ後、トーナメント形式のゲームを行います。 \n麻雀やボードゲーム、switch等多数ご用意しています。\nトーナメント敗退後はご自由にお楽しみください。途中からのご参加や、途中でのご退席も自由です。\nトーナメント終了後、希望者で打ち上げを予定しています。
URL:https://www.kite-space.online/event/shounan-poker-2505/
LOCATION:RentalSpace kite.藤沢店\, 南藤沢6-11南藤沢フラットビル5F\, 藤沢市\, 神奈川県\, 2510055\, Japan
CATEGORIES:Poker,湘南ポーカークラブ
ATTACH;FMTTYPE=image/png:https://www.kite-space.online/wp-content/uploads/2025/04/ロゴ.png
END:VEVENT
END:VCALENDAR